BEGIN:VCALENDAR
VERSION:2.0
PRODID:-// - ECPv4.0//NONSGML v1.0//EN
CALSCALE:GREGORIAN
METHOD:PUBLISH
X-WR-CALNAME:
X-ORIGINAL-URL:https://www.studiotecnicodelverde.it/wp
X-WR-CALDESC:Events for 
BEGIN:VEVENT
DTSTART;VALUE=DATE:20231007
DTEND;VALUE=DATE:20231008
DTSTAMP:20260420T081521
CREATED:20200127
LAST-MODIFIED:20230929
UID:2097-1696716000-1696802399@www.studiotecnicodelverde.it
SUMMARY:Corso di muretti a secco
DESCRIPTION:
URL:https://www.studiotecnicodelverde.it/wp/event/corso-muretti-secco-pratica-2/
ATTACH;FMTTYPE=image/jpeg:https://www.studiotecnicodelverde.it/wp/wp-content/uploads/2015/09/Muretti-a-secco-2023.jpg
END:VEVENT
END:VCALENDAR